BEGIN:VCALENDAR
VERSION:2.0
PRODID:-// - ECPv5.3.2.1//NONSGML v1.0//EN
CALSCALE:GREGORIAN
METHOD:PUBLISH
X-ORIGINAL-URL:https://vergelhadas.com
X-WR-CALDESC:Eventos para 
BEGIN:VTIMEZONE
TZID:UTC
BEGIN:STANDARD
TZOFFSETFROM:+0000
TZOFFSETTO:+0000
TZNAME:UTC
DTSTART:20260101T000000
END:STANDARD
END:VTIMEZONE
BEGIN:VEVENT
DTSTART;TZID=UTC:20260411T100000
DTEND;TZID=UTC:20260411T140000
DTSTAMP:20260422T123735
CREATED:20260329T102200Z
LAST-MODIFIED:20260329T210824Z
UID:5594-1775901600-1775916000@vergelhadas.com
SUMMARY:Taller de huerto ecológico
DESCRIPTION:Técnicas de plantación y siembra sin labrar. Rotaciones y asociaciones
URL:https://vergelhadas.com/eventos/taller-de-huerto-ecologico/
END:VEVENT
END:VCALENDAR