BEGIN:VCALENDAR
VERSION:2.0
PRODID:-// - ECPv5.3.2.1//NONSGML v1.0//EN
CALSCALE:GREGORIAN
METHOD:PUBLISH
X-ORIGINAL-URL:https://vergelhadas.com
X-WR-CALDESC:Eventos para 
BEGIN:VTIMEZONE
TZID:UTC
BEGIN:STANDARD
TZOFFSETFROM:+0000
TZOFFSETTO:+0000
TZNAME:UTC
DTSTART:20250101T000000
END:STANDARD
END:VTIMEZONE
BEGIN:VEVENT
DTSTART;TZID=UTC:20251109T100000
DTEND;TZID=UTC:20251109T140000
DTSTAMP:20260425T203431
CREATED:20251021T094010Z
LAST-MODIFIED:20251021T094714Z
UID:5798-1762682400-1762696800@vergelhadas.com
SUMMARY:TALLER DE CONSERVAS
DESCRIPTION:Taller de conservas de productos del huerto : tomates enteros al baño maría\, salsa de tomate \, patés de verduras\, fermentados .. y otros ..con degustación al final del taller …
URL:https://vergelhadas.com/eventos/taller-de-conservas/
CATEGORIES:Comida
END:VEVENT
END:VCALENDAR